BEGIN:VCALENDAR
VERSION:2.0
PRODID:-//Library Market//iCal Export//EN
BEGIN:VEVENT
SUMMARY:Microsoft Word Intermediate
UID:99135
DTSTAMP:20260421T041500Z
DTSTART:20260826T000000Z
DTEND:20260826T010000Z
LOCATION:Orland Park Public Library, 14921 Ravinia Avenue, Orland Park, IL
  60462, United States
ROOM: Computer Lab
DESCRIPTION:In this intermediate level hands-on class, we will look at how
  to create labels and envelopes; as well as use mail merge to speed up the
  mass sending of personalized mailings in Microsoft Word. Prior familiarit
 y with Microsoft Word is required for this class. Registration is require
 d. 
URL:https://orlandpark.librarycalendar.com/event/microsoft-word-intermedia
 te-99135
END:VEVENT
END:VCALENDAR
