BEGIN:VCALENDAR
VERSION:2.0
PRODID:-//Library Market//iCal Export//EN
BEGIN:VEVENT
SUMMARY:Cut the Cable
UID:99132
DTSTAMP:20260421T041500Z
DTSTART:20260820T000000Z
DTEND:20260820T010000Z
LOCATION:Orland Park Public Library, 14921 Ravinia Avenue, Orland Park, IL
  60462, United States
ROOM: Large Meeting Room - 104
DESCRIPTION:This lecture-style class will show you how to cut your cable s
 ubscription and get your home ready for streaming. No Registration is req
 uired.
URL:https://orlandpark.librarycalendar.com/event/cut-cable-99132
END:VEVENT
END:VCALENDAR
