BEGIN:VCALENDAR
VERSION:2.0
PRODID:-//Library Market//iCal Export//EN
BEGIN:VEVENT
SUMMARY:Google Slides Basics
UID:99127
DTSTAMP:20260419T212500Z
DTSTART:20260812T000000Z
DTEND:20260812T010000Z
LOCATION:Orland Park Public Library, 14921 Ravinia Avenue, Orland Park, IL
  60462, United States
ROOM: Computer Lab
DESCRIPTION:Discover how to prepare and share slideshow presentations with
  Google Slides in this hands-on class.  Registration is required. 
URL:https://orlandpark.librarycalendar.com/event/google-slides-basics-9912
 7
END:VEVENT
END:VCALENDAR
