BEGIN:VCALENDAR
VERSION:2.0
PRODID:-//Library Market//iCal Export//EN
BEGIN:VEVENT
SUMMARY:Computer Intermediate
UID:99126
DTSTAMP:20260419T212500Z
DTSTART:20260810T160000Z
DTEND:20260810T170000Z
LOCATION:Orland Park Public Library, 14921 Ravinia Avenue, Orland Park, IL
  60462, United States
ROOM: Computer Lab
DESCRIPTION:This hands-on class will build on the foundation of the previo
 us Computer Basics class. You will learn how to conduct internet searches,
  create files, and receive safe surfing security tips.   Registration i
 s required. 
URL:https://orlandpark.librarycalendar.com/event/computer-intermediate-991
 26
END:VEVENT
END:VCALENDAR
