BEGIN:VCALENDAR
VERSION:2.0
PRODID:-//Library Market//iCal Export//EN
BEGIN:VEVENT
SUMMARY:Glowforge Acrylic Keychain Project
UID:99124
DTSTAMP:20260420T104000Z
DTSTART:20260808T160000Z
DTEND:20260808T170000Z
LOCATION:Orland Park Public Library, 14921 Ravinia Avenue, Orland Park, IL
  60462, United States
ROOM: Computer Lab
DESCRIPTION:In this project class, you will use the Glowforge machine to m
 ake a personalized keychain. Previous Glowforge experience or having taken
  our Glowforge Basics class is required for this class.Registration is req
 uired. 
URL:https://orlandpark.librarycalendar.com/event/glowforge-acrylic-keychai
 n-project-99124
END:VEVENT
END:VCALENDAR
