BEGIN:VCALENDAR
VERSION:2.0
PRODID:-//Library Market//iCal Export//EN
BEGIN:VEVENT
SUMMARY:Cricut Basics
UID:99113
DTSTAMP:20260421T110900Z
DTSTART:20260701T000000Z
DTEND:20260701T010000Z
LOCATION:Orland Park Public Library, 14921 Ravinia Avenue, Orland Park, IL
  60462, United States
ROOM: Computer Lab
DESCRIPTION:In this basics course, you will receive hands-on instruction o
 n how to use the Cricut craft cutting machine and take home a personalized
  project. Registration is required. 
URL:https://orlandpark.librarycalendar.com/event/cricut-basics-99113
END:VEVENT
END:VCALENDAR
