BEGIN:VCALENDAR
VERSION:2.0
PRODID:-//Library Market//iCal Export//EN
BEGIN:VEVENT
SUMMARY:iPad Basics
UID:99112
DTSTAMP:20260421T164200Z
DTSTART:20260629T160000Z
DTEND:20260629T170000Z
LOCATION:Orland Park Public Library, 14921 Ravinia Avenue, Orland Park, IL
  60462, United States
ROOM: Computer Lab
DESCRIPTION:In this lecture-style class, we will take a basic look at feat
 ures and navigating your Apple iPad. You may bring your own iPad if you wo
 uld like to follow along.Registration is required. 
URL:https://orlandpark.librarycalendar.com/event/ipad-basics-99112
END:VEVENT
END:VCALENDAR
