BEGIN:VCALENDAR
VERSION:2.0
PRODID:-//Library Market//iCal Export//EN
BEGIN:VEVENT
SUMMARY:iPhone Intermediate
UID:99093
DTSTAMP:20260421T193800Z
DTSTART:20260623T160000Z
DTEND:20260623T170000Z
LOCATION:Orland Park Public Library, 14921 Ravinia Avenue, Orland Park, IL
  60462, United States
ROOM: Computer Lab
DESCRIPTION:This lecture-style class will build off the iPhone Basics clas
 s and go over iPhone functions such as password protection, Screen mirrori
 ng, Calendar, Bluetooth, and much more. You may bring your own device.â€¯Â
  Registration is required.Â 
URL:https://orlandpark.librarycalendar.com/event/iphone-intermediate-99093
END:VEVENT
END:VCALENDAR
