BEGIN:VCALENDAR
VERSION:2.0
PRODID:-//Library Market//iCal Export//EN
BEGIN:VEVENT
SUMMARY:Microsoft Word Basics
UID:99134
DTSTAMP:20260422T021400Z
DTSTART:20260821T000000Z
DTEND:20260821T010000Z
LOCATION:Orland Park Public Library, 14921 Ravinia Avenue, Orland Park, IL
  60462, United States
ROOM: Computer Lab
DESCRIPTION:Discover the basics of Microsoft Word, including navigation th
 rough the application and basic features in this hands-on class.  Regist
 ration is required. 
URL:https://orlandpark.librarycalendar.com/index.php/event/microsoft-word-
 basics-99134
END:VEVENT
END:VCALENDAR
