BEGIN:VCALENDAR
VERSION:2.0
PRODID:-//Library Market//iCal Export//EN
BEGIN:VEVENT
SUMMARY:AI Chatbots and You
UID:99131
DTSTAMP:20260422T050100Z
DTSTART:20260817T160000Z
DTEND:20260817T170000Z
LOCATION:Orland Park Public Library, 14921 Ravinia Avenue, Orland Park, IL
  60462, United States
ROOM: Computer Lab
DESCRIPTION:In this ChatGPT-focused lecture you will learn what an artific
 ial intelligence (AI) chatbot is, how AI has been used, and what it can do
  for you.Registration is required. 
URL:https://orlandpark.librarycalendar.com/index.php/event/ai-chatbots-and
 -you-99131
END:VEVENT
END:VCALENDAR
