BEGIN:VCALENDAR
VERSION:2.0
PRODID:-//Library Market//iCal Export//EN
BEGIN:VEVENT
SUMMARY:Google Photos Basics
UID:99129
DTSTAMP:20260421T193800Z
DTSTART:20260814T000000Z
DTEND:20260814T010000Z
LOCATION:Orland Park Public Library, 14921 Ravinia Avenue, Orland Park, IL
  60462, United States
ROOM: Computer Lab
DESCRIPTION:Learn how to organize and manage your photos, make edits, and 
 share your albums using Google Photos in this lecture-style class.    R
 egistration is required. 
URL:https://orlandpark.librarycalendar.com/index.php/event/google-photos-b
 asics-99129
END:VEVENT
END:VCALENDAR
