BEGIN:VCALENDAR
VERSION:2.0
PRODID:-//Library Market//iCal Export//EN
BEGIN:VEVENT
SUMMARY:Google Sheets/Forms Basics
UID:99123
DTSTAMP:20260422T021400Z
DTSTART:20260805T000000Z
DTEND:20260805T010000Z
LOCATION:Orland Park Public Library, 14921 Ravinia Avenue, Orland Park, IL
  60462, United States
ROOM: Computer Lab
DESCRIPTION:In this introductory hands-on class, we will show you how to c
 reate, edit, and share spreadsheets in Google Sheets, and how to create, e
 dit, and share various forms using Google Forms.  Registration is requir
 ed. 
URL:https://orlandpark.librarycalendar.com/index.php/event/google-sheetsfo
 rms-basics-99123
END:VEVENT
END:VCALENDAR
