BEGIN:VCALENDAR
VERSION:2.0
PRODID:-//Library Market//iCal Export//EN
BEGIN:VEVENT
SUMMARY:Google Docs Basics
UID:99122
DTSTAMP:20260421T193800Z
DTSTART:20260801T160000Z
DTEND:20260801T170000Z
LOCATION:Orland Park Public Library, 14921 Ravinia Avenue, Orland Park, IL
  60462, United States
ROOM: Computer Lab
DESCRIPTION:Learn how to create, edit, and share documents with Google&#03
 9;s word processing program in this hands-on class. Registration is requi
 red. 
URL:https://orlandpark.librarycalendar.com/index.php/event/google-docs-bas
 ics-99122
END:VEVENT
END:VCALENDAR
