BEGIN:VCALENDAR
VERSION:2.0
PRODID:-//Library Market//iCal Export//EN
BEGIN:VEVENT
SUMMARY:Gmail/Google Drive Basics
UID:99121
DTSTAMP:20260421T193800Z
DTSTART:20260728T160000Z
DTEND:20260728T170000Z
LOCATION:Orland Park Public Library, 14921 Ravinia Avenue, Orland Park, IL
  60462, United States
ROOM: Computer Lab
DESCRIPTION:Find out how to set up and use a Google email account. Also, d
 iscover more about Google Drive, a cloud-based solution for composing, sto
 ring, and collaborating on various types of documents in this hands-on cla
 ss. Registration is required. 
URL:https://orlandpark.librarycalendar.com/index.php/event/gmailgoogle-dri
 ve-basics-99121
END:VEVENT
END:VCALENDAR
