BEGIN:VCALENDAR
VERSION:2.0
PRODID:-//Library Market//iCal Export//EN
BEGIN:VEVENT
SUMMARY:Microsoft 365 Overview
UID:99120
DTSTAMP:20260422T050100Z
DTSTART:20260723T000000Z
DTEND:20260723T010000Z
LOCATION:Orland Park Public Library, 14921 Ravinia Avenue, Orland Park, IL
  60462, United States
ROOM: Computer Lab
DESCRIPTION:This lecture-style class will cover topics on Microsoft 365 su
 ite of apps, plans, pricing, storage, and features. Registration is requi
 red. 
URL:https://orlandpark.librarycalendar.com/index.php/event/microsoft-365-o
 verview-99120
END:VEVENT
END:VCALENDAR
