BEGIN:VCALENDAR
VERSION:2.0
PRODID:-//Library Market//iCal Export//EN
BEGIN:VEVENT
SUMMARY:Summer Canva/Glowforge Project
UID:99118
DTSTAMP:20260422T014800Z
DTSTART:20260719T203000Z
DTEND:20260719T214500Z
LOCATION:Orland Park Public Library, 14921 Ravinia Avenue, Orland Park, IL
  60462, United States
ROOM: Computer Lab
DESCRIPTION:In this project class, you will use the Glowforge machine and 
 Canva software to make a summer door hanger. Previous Glowforge and Canva 
 experience or having taken our Glowforge and Canva Basics classes is requi
 red for this class.Registration is required. 
URL:https://orlandpark.librarycalendar.com/index.php/event/summer-canvaglo
 wforge-project-99118
END:VEVENT
END:VCALENDAR
