BEGIN:VCALENDAR
VERSION:2.0
PRODID:-//Library Market//iCal Export//EN
BEGIN:VEVENT
SUMMARY:Glowforge Basics
UID:99116
DTSTAMP:20260421T170000Z
DTSTART:20260716T160000Z
DTEND:20260716T170000Z
LOCATION:Orland Park Public Library, 14921 Ravinia Avenue, Orland Park, IL
  60462, United States
ROOM: Computer Lab
DESCRIPTION:In this course, you will receive hands-on instruction using th
 e Glowforge laser cutter/engraver machine. You will take home a personaliz
 ed engraved project.Registration is required. 
URL:https://orlandpark.librarycalendar.com/index.php/event/glowforge-basic
 s-99116
END:VEVENT
END:VCALENDAR
