BEGIN:VCALENDAR
VERSION:2.0
PRODID:-//Library Market//iCal Export//EN
BEGIN:VEVENT
SUMMARY:Canva Basics
UID:99115
DTSTAMP:20260421T170000Z
DTSTART:20260715T000000Z
DTEND:20260715T010000Z
LOCATION:Orland Park Public Library, 14921 Ravinia Avenue, Orland Park, IL
  60462, United States
ROOM: Computer Lab
DESCRIPTION:In this hands-on class, you will learn how to use this graphic
  design program to create a variety of fun projects, both print and digita
 l. Registration is required. 
URL:https://orlandpark.librarycalendar.com/index.php/event/canva-basics-99
 115
END:VEVENT
END:VCALENDAR
