BEGIN:VCALENDAR
VERSION:2.0
PRODID:-//Library Market//iCal Export//EN
BEGIN:VEVENT
SUMMARY:Computer Basics
UID:99114
DTSTAMP:20260421T193800Z
DTSTART:20260706T160000Z
DTEND:20260706T170000Z
LOCATION:Orland Park Public Library, 14921 Ravinia Avenue, Orland Park, IL
  60462, United States
ROOM: Computer Lab
DESCRIPTION:In this hands-on class, you will learn the various parts of a 
 computer and start using basic functions. Registration is required. 
URL:https://orlandpark.librarycalendar.com/index.php/event/computer-basics
 -99114
END:VEVENT
END:VCALENDAR
