BEGIN:VCALENDAR
VERSION:2.0
PRODID:-//Library Market//iCal Export//EN
BEGIN:VEVENT
SUMMARY:Intro to Python
UID:99092
DTSTAMP:20260421T164200Z
DTSTART:20260618T000000Z
DTEND:20260618T010000Z
LOCATION:Orland Park Public Library, 14921 Ravinia Avenue, Orland Park, IL
  60462, United States
ROOM: Computer Lab
DESCRIPTION:In this beginner-friendly class, you&#039;ll gain knowledge of
  the fundamentals of Python and do some hands-on programming.Registration 
 is required. 
URL:https://orlandpark.librarycalendar.com/index.php/event/intro-python-99
 092
END:VEVENT
END:VCALENDAR
