BEGIN:VCALENDAR
VERSION:2.0
PRODID:-//Library Market//iCal Export//EN
BEGIN:VEVENT
SUMMARY:iPhone Basics
UID:99091
DTSTAMP:20260422T130500Z
DTSTART:20260616T160000Z
DTEND:20260616T170000Z
LOCATION:Orland Park Public Library, 14921 Ravinia Avenue, Orland Park, IL
  60462, United States
ROOM: Computer Lab
DESCRIPTION:This lecture-style class will cover basic functions of iPhones
 , including checking for updates and how to navigate your device.  You m
 ay bring your own device.  Registration is required. 
URL:https://orlandpark.librarycalendar.com/index.php/event/iphone-basics-9
 9091
END:VEVENT
END:VCALENDAR
