BEGIN:VCALENDAR
VERSION:2.0
PRODID:-//Library Market//iCal Export//EN
BEGIN:VEVENT
SUMMARY:Father&#039;s Day Project
UID:99088
DTSTAMP:20260421T164200Z
DTSTART:20260614T193000Z
DTEND:20260614T203000Z
LOCATION:Orland Park Public Library, 14921 Ravinia Avenue, Orland Park, IL
  60462, United States
ROOM: Computer Lab
DESCRIPTION:In this project class, you will use the Glowforge and Cricut m
 achines to make a one-of-a-kind, personalized Father&#039;s Day keepsake. 
 Previous Glowforge and Cricut experience or having taken our Glowforge and
  Cricut Basics classes is required for this course.Registration is require
 d. 
URL:https://orlandpark.librarycalendar.com/index.php/event/fathers-day-pro
 ject-99088
END:VEVENT
END:VCALENDAR
