BEGIN:VCALENDAR
VERSION:2.0
PRODID:-//Library Market//iCal Export//EN
BEGIN:VEVENT
SUMMARY:Music Conversion Class
UID:99086
DTSTAMP:20260422T021400Z
DTSTART:20260609T000000Z
DTEND:20260609T010000Z
LOCATION:Orland Park Public Library, 14921 Ravinia Avenue, Orland Park, IL
  60462, United States
ROOM: Computer Lab
DESCRIPTION:Learn how to convert vinyl albums and audio cassettes to digit
 al audio on a computer using equipment available at the library in this le
 cture-style class.Registration is required. 
URL:https://orlandpark.librarycalendar.com/index.php/event/music-conversio
 n-class-99086
END:VEVENT
END:VCALENDAR
