BEGIN:VCALENDAR
VERSION:2.0
PRODID:-//Library Market//iCal Export//EN
BEGIN:VEVENT
SUMMARY:Early Stage Memory Loss Support Group
UID:92091
DTSTAMP:20260425T115400Z
DTSTART:20260709T153000Z
DTEND:20260709T163000Z
LOCATION:Orland Park Public Library, 14921 Ravinia Avenue, Orland Park, IL
  60462, United States
ROOM: Large Meeting Room - 104
DESCRIPTION:The library, in partnership with the Alzheimer&#039;s Associat
 ion and Pathlights, is hosting an eight-week support group for those livin
 g with early stage dementia or MCI (mild cognitive impairment), and their 
 care partners. &quot;Early Stage&quot; refers to people, irrespective of a
 ge, who are diagnosed with Alzheimer&#039;s disease or related disorders, 
 and are in the beginning stages of the disease. Pre-screening is required
  BEFORE registration. Please contact Lily Becker at lbecker@pathlights.org
 , or (708) 361-0219 to begin the screening process. Registration Required.
  
URL:https://orlandpark.librarycalendar.com/index.php/event/early-stage-mem
 ory-loss-support-group-92091
END:VEVENT
END:VCALENDAR
